BEGIN:VCALENDAR
VERSION:2.0
PRODID:-//Tukios.com/
BEGIN:VEVENT
UID:810128b9-5d7f-4e38-bdde-6c911940db35@www.swigarteasterlingfuneralhome.com
DTSTAMP:20260424T195509Z
DTSTART:20260430T140000Z
DTEND:20260430T150000Z
SUMMARY:Visitation
DESCRIPTION:
URL:https://www.swigarteasterlingfuneralhome.com/obituaries/irene-dommin
LOCATION: 624 Cherry St E  Canal Fulton OH 44614
GEO:40.8931533;-81.5928528
END:VEVENT
END:VCALENDAR