BEGIN:VCALENDAR
VERSION:2.0
PRODID:-//Tukios.com/
BEGIN:VEVENT
UID:13e9575d-1ddc-45fd-9ef7-b10442089ca8@www.swigarteasterlingfuneralhome.com
DTSTAMP:20260424T195541Z
DTSTART:20260430T153000Z
DTEND:20260430T163000Z
SUMMARY:Mass of Christian Burial
DESCRIPTION:
URL:https://www.swigarteasterlingfuneralhome.com/obituaries/irene-dommin
LOCATION: 412 High St NE  Canal Fulton  44614
GEO:40.8929912;-81.5990809
END:VEVENT
END:VCALENDAR