BEGIN:VCALENDAR
VERSION:2.0
PRODID:-//Tukios.com/
BEGIN:VEVENT
UID:75efd6c0-6c5f-4126-a21a-4c8ff64056f6@www.swigarteasterlingfuneralhome.com
DTSTAMP:20260424T195334Z
DTSTART:20260430T133000Z
DTEND:20260430T140000Z
SUMMARY:Rosary
DESCRIPTION:
URL:https://www.swigarteasterlingfuneralhome.com/obituaries/irene-dommin
LOCATION: 624 Cherry St E  Canal Fulton OH 44614
GEO:40.8931533;-81.5928528
END:VEVENT
END:VCALENDAR